BEGIN:VCALENDAR
VERSION:2.0
PRODID:-//lebensnah e.V. - ECPv6.15.11//NONSGML v1.0//EN
CALSCALE:GREGORIAN
METHOD:PUBLISH
X-ORIGINAL-URL:https://www.lebensnah.de
X-WR-CALDESC:Veranstaltungen für lebensnah e.V.
REFRESH-INTERVAL;VALUE=DURATION:PT1H
X-Robots-Tag:noindex
X-PUBLISHED-TTL:PT1H
BEGIN:VTIMEZONE
TZID:UTC
BEGIN:STANDARD
TZOFFSETFROM:+0000
TZOFFSETTO:+0000
TZNAME:UTC
DTSTART:20240101T000000
END:STANDARD
END:VTIMEZONE
BEGIN:VTIMEZONE
TZID:Europe/Berlin
BEGIN:DAYLIGHT
TZOFFSETFROM:+0100
TZOFFSETTO:+0200
TZNAME:CEST
DTSTART:20240331T010000
END:DAYLIGHT
BEGIN:STANDARD
TZOFFSETFROM:+0200
TZOFFSETTO:+0100
TZNAME:CET
DTSTART:20241027T010000
END:STANDARD
BEGIN:DAYLIGHT
TZOFFSETFROM:+0100
TZOFFSETTO:+0200
TZNAME:CEST
DTSTART:20250330T010000
END:DAYLIGHT
BEGIN:STANDARD
TZOFFSETFROM:+0200
TZOFFSETTO:+0100
TZNAME:CET
DTSTART:20251026T010000
END:STANDARD
BEGIN:DAYLIGHT
TZOFFSETFROM:+0100
TZOFFSETTO:+0200
TZNAME:CEST
DTSTART:20260329T010000
END:DAYLIGHT
BEGIN:STANDARD
TZOFFSETFROM:+0200
TZOFFSETTO:+0100
TZNAME:CET
DTSTART:20261025T010000
END:STANDARD
END:VTIMEZONE
BEGIN:VEVENT
DTSTART;TZID=UTC:20250203T090000
DTEND;TZID=UTC:20250203T180000
DTSTAMP:20260419T141527
CREATED:20231023T094336Z
LAST-MODIFIED:20231023T094336Z
UID:18881-1738573200-1738605600@www.lebensnah.de
SUMMARY:Offenes Cafe
DESCRIPTION:Spielecke und Heißgetränke – ohne Anmeldung\, ihr könnt einfach vorbeikommen.
URL:https://www.lebensnah.de/event/offenes-cafe-2025-02-03/
LOCATION:Familientreff RIGATONI\, Rigaer Str. 71 A\, Berlin\, 10247\, Deutschland
CATEGORIES:Familientreff RIGATONI
ORGANIZER;CN="Familientreff RIGATONI":MAILTO:rigatoni@lebensnah.de
END:VEVENT
BEGIN:VEVENT
DTSTART;TZID=UTC:20250203T100000
DTEND;TZID=UTC:20250203T120000
DTSTAMP:20260419T141527
CREATED:20231023T094617Z
LAST-MODIFIED:20231023T094617Z
UID:18988-1738576800-1738584000@www.lebensnah.de
SUMMARY:Fliesenflitzer - offene Spielgruppe
DESCRIPTION:Offene Spielgruppe\n(8 Monate – 24 Monate)\nKEINE Anmeldung erforderlich
URL:https://www.lebensnah.de/event/fliesenflitzer-offene-spielgruppe-2025-02-03/
LOCATION:Familientreff RIGATONI\, Rigaer Str. 71 A\, Berlin\, 10247\, Deutschland
CATEGORIES:Familientreff RIGATONI
ORGANIZER;CN="Familientreff RIGATONI":MAILTO:rigatoni@lebensnah.de
END:VEVENT
BEGIN:VEVENT
DTSTART;TZID=UTC:20250203T130000
DTEND;TZID=UTC:20250203T140000
DTSTAMP:20260419T141527
CREATED:20231023T095001Z
LAST-MODIFIED:20231023T100659Z
UID:19094-1738587600-1738591200@www.lebensnah.de
SUMMARY:Beratung - kostenfrei
DESCRIPTION:Wir beraten kostenfrei zu folgenden Themen: \n„Rund ums Kind“ – Beratung zu Anträgen rund ums Kind (Bsp.: KITA-Gutschein)\nIst mein Kind „anders“? – Beratung für Kinder mit „Besonderheiten“\n„Was steht mir zu?“ – Beratung für Allein- und Getrennterziehende\nKITA- und Eingewöhnungsberatung
URL:https://www.lebensnah.de/event/beratung-kostenfrei-2025-02-03/
LOCATION:Familientreff RIGATONI\, Rigaer Str. 71 A\, Berlin\, 10247\, Deutschland
CATEGORIES:Familientreff RIGATONI
ORGANIZER;CN="Familientreff RIGATONI":MAILTO:rigatoni@lebensnah.de
END:VEVENT
BEGIN:VEVENT
DTSTART;TZID=UTC:20250203T170000
DTEND;TZID=UTC:20250203T174500
DTSTAMP:20260419T141527
CREATED:20231023T095415Z
LAST-MODIFIED:20231023T095415Z
UID:19200-1738602000-1738604700@www.lebensnah.de
SUMMARY:Kreativer Kindertanz
DESCRIPTION:(Kurs bereits voll!)\n3 Jahre – 5 Jahre\n16.00 – 16.45 Uhr\n17.00 – 17.45 Uhr\nWartelistenplatz unter:\nTel. 030 / 420 190 14\nrigatoni@lebensnah.de
URL:https://www.lebensnah.de/event/kreativer-kindertanz-2025-02-03/
LOCATION:Familientreff RIGATONI\, Rigaer Str. 71 A\, Berlin\, 10247\, Deutschland
CATEGORIES:Familientreff RIGATONI
ORGANIZER;CN="Familientreff RIGATONI":MAILTO:rigatoni@lebensnah.de
END:VEVENT
BEGIN:VEVENT
DTSTART;TZID=Europe/Berlin:20250207T100000
DTEND;TZID=Europe/Berlin:20250207T103000
DTSTAMP:20260419T141527
CREATED:20200124T125637Z
LAST-MODIFIED:20200124T125637Z
UID:17615-1738922400-1738924200@www.lebensnah.de
SUMMARY:Baby Musik
DESCRIPTION:Singen mit Eltern für Babys zwischen 6 und 18 Monaten \nZusammen singen wir Bewegungslieder und Kniereiter und machen Fingerspiele. \nKosten: 10 Termine / 40 Euro\nKursleiterin: Ruth Banke (Musik- und Spielpädagogin) \nAnmeldung erforderlich
URL:https://www.lebensnah.de/event/baby-musik-2-2025-02-07/
LOCATION:Familienzentrum Juli\, Gürtelstraße 20\, Berlin\, Deutschland
CATEGORIES:Familienzentrum Juli
END:VEVENT
BEGIN:VEVENT
DTSTART;TZID=Europe/Berlin:20250207T110000
DTEND;TZID=Europe/Berlin:20250207T113000
DTSTAMP:20260419T141527
CREATED:20200124T125637Z
LAST-MODIFIED:20200124T125637Z
UID:17616-1738926000-1738927800@www.lebensnah.de
SUMMARY:Baby Musik
DESCRIPTION:Singen mit Eltern für Babys zwischen 6 und 18 Monaten \nZusammen singen wir Bewegungslieder und Kniereiter und machen Fingerspiele. \nKosten: 10 Termine / 40 Euro\nKursleiterin: Ruth Banke (Musik- und Spielpädagogin) \nAnmeldung erforderlich
URL:https://www.lebensnah.de/event/baby-musik-2-2025-02-07-2/
LOCATION:Familienzentrum Juli\, Gürtelstraße 20\, Berlin\, Deutschland
CATEGORIES:Familienzentrum Juli
END:VEVENT
BEGIN:VEVENT
DTSTART;TZID=UTC:20250210T090000
DTEND;TZID=UTC:20250210T180000
DTSTAMP:20260419T141527
CREATED:20231023T094336Z
LAST-MODIFIED:20231023T094336Z
UID:18882-1739178000-1739210400@www.lebensnah.de
SUMMARY:Offenes Cafe
DESCRIPTION:Spielecke und Heißgetränke – ohne Anmeldung\, ihr könnt einfach vorbeikommen.
URL:https://www.lebensnah.de/event/offenes-cafe-2025-02-10/
LOCATION:Familientreff RIGATONI\, Rigaer Str. 71 A\, Berlin\, 10247\, Deutschland
CATEGORIES:Familientreff RIGATONI
ORGANIZER;CN="Familientreff RIGATONI":MAILTO:rigatoni@lebensnah.de
END:VEVENT
BEGIN:VEVENT
DTSTART;TZID=UTC:20250210T100000
DTEND;TZID=UTC:20250210T120000
DTSTAMP:20260419T141527
CREATED:20231023T094617Z
LAST-MODIFIED:20231023T094617Z
UID:18989-1739181600-1739188800@www.lebensnah.de
SUMMARY:Fliesenflitzer - offene Spielgruppe
DESCRIPTION:Offene Spielgruppe\n(8 Monate – 24 Monate)\nKEINE Anmeldung erforderlich
URL:https://www.lebensnah.de/event/fliesenflitzer-offene-spielgruppe-2025-02-10/
LOCATION:Familientreff RIGATONI\, Rigaer Str. 71 A\, Berlin\, 10247\, Deutschland
CATEGORIES:Familientreff RIGATONI
ORGANIZER;CN="Familientreff RIGATONI":MAILTO:rigatoni@lebensnah.de
END:VEVENT
BEGIN:VEVENT
DTSTART;TZID=UTC:20250210T130000
DTEND;TZID=UTC:20250210T140000
DTSTAMP:20260419T141527
CREATED:20231023T095001Z
LAST-MODIFIED:20231023T100700Z
UID:19095-1739192400-1739196000@www.lebensnah.de
SUMMARY:Beratung - kostenfrei
DESCRIPTION:Wir beraten kostenfrei zu folgenden Themen: \n„Rund ums Kind“ – Beratung zu Anträgen rund ums Kind (Bsp.: KITA-Gutschein)\nIst mein Kind „anders“? – Beratung für Kinder mit „Besonderheiten“\n„Was steht mir zu?“ – Beratung für Allein- und Getrennterziehende\nKITA- und Eingewöhnungsberatung
URL:https://www.lebensnah.de/event/beratung-kostenfrei-2025-02-10/
LOCATION:Familientreff RIGATONI\, Rigaer Str. 71 A\, Berlin\, 10247\, Deutschland
CATEGORIES:Familientreff RIGATONI
ORGANIZER;CN="Familientreff RIGATONI":MAILTO:rigatoni@lebensnah.de
END:VEVENT
BEGIN:VEVENT
DTSTART;TZID=UTC:20250210T170000
DTEND;TZID=UTC:20250210T174500
DTSTAMP:20260419T141527
CREATED:20231023T095415Z
LAST-MODIFIED:20231023T095415Z
UID:19201-1739206800-1739209500@www.lebensnah.de
SUMMARY:Kreativer Kindertanz
DESCRIPTION:(Kurs bereits voll!)\n3 Jahre – 5 Jahre\n16.00 – 16.45 Uhr\n17.00 – 17.45 Uhr\nWartelistenplatz unter:\nTel. 030 / 420 190 14\nrigatoni@lebensnah.de
URL:https://www.lebensnah.de/event/kreativer-kindertanz-2025-02-10/
LOCATION:Familientreff RIGATONI\, Rigaer Str. 71 A\, Berlin\, 10247\, Deutschland
CATEGORIES:Familientreff RIGATONI
ORGANIZER;CN="Familientreff RIGATONI":MAILTO:rigatoni@lebensnah.de
END:VEVENT
BEGIN:VEVENT
DTSTART;TZID=Europe/Berlin:20250214T100000
DTEND;TZID=Europe/Berlin:20250214T103000
DTSTAMP:20260419T141527
CREATED:20200124T125637Z
LAST-MODIFIED:20200124T125637Z
UID:17617-1739527200-1739529000@www.lebensnah.de
SUMMARY:Baby Musik
DESCRIPTION:Singen mit Eltern für Babys zwischen 6 und 18 Monaten \nZusammen singen wir Bewegungslieder und Kniereiter und machen Fingerspiele. \nKosten: 10 Termine / 40 Euro\nKursleiterin: Ruth Banke (Musik- und Spielpädagogin) \nAnmeldung erforderlich
URL:https://www.lebensnah.de/event/baby-musik-2-2025-02-14/
LOCATION:Familienzentrum Juli\, Gürtelstraße 20\, Berlin\, Deutschland
CATEGORIES:Familienzentrum Juli
END:VEVENT
BEGIN:VEVENT
DTSTART;TZID=Europe/Berlin:20250214T110000
DTEND;TZID=Europe/Berlin:20250214T113000
DTSTAMP:20260419T141527
CREATED:20200124T125637Z
LAST-MODIFIED:20200124T125637Z
UID:17618-1739530800-1739532600@www.lebensnah.de
SUMMARY:Baby Musik
DESCRIPTION:Singen mit Eltern für Babys zwischen 6 und 18 Monaten \nZusammen singen wir Bewegungslieder und Kniereiter und machen Fingerspiele. \nKosten: 10 Termine / 40 Euro\nKursleiterin: Ruth Banke (Musik- und Spielpädagogin) \nAnmeldung erforderlich
URL:https://www.lebensnah.de/event/baby-musik-2-2025-02-14-2/
LOCATION:Familienzentrum Juli\, Gürtelstraße 20\, Berlin\, Deutschland
CATEGORIES:Familienzentrum Juli
END:VEVENT
BEGIN:VEVENT
DTSTART;TZID=UTC:20250217T090000
DTEND;TZID=UTC:20250217T180000
DTSTAMP:20260419T141527
CREATED:20231023T094336Z
LAST-MODIFIED:20231023T094336Z
UID:18883-1739782800-1739815200@www.lebensnah.de
SUMMARY:Offenes Cafe
DESCRIPTION:Spielecke und Heißgetränke – ohne Anmeldung\, ihr könnt einfach vorbeikommen.
URL:https://www.lebensnah.de/event/offenes-cafe-2025-02-17/
LOCATION:Familientreff RIGATONI\, Rigaer Str. 71 A\, Berlin\, 10247\, Deutschland
CATEGORIES:Familientreff RIGATONI
ORGANIZER;CN="Familientreff RIGATONI":MAILTO:rigatoni@lebensnah.de
END:VEVENT
BEGIN:VEVENT
DTSTART;TZID=UTC:20250217T100000
DTEND;TZID=UTC:20250217T120000
DTSTAMP:20260419T141527
CREATED:20231023T094617Z
LAST-MODIFIED:20231023T094617Z
UID:18990-1739786400-1739793600@www.lebensnah.de
SUMMARY:Fliesenflitzer - offene Spielgruppe
DESCRIPTION:Offene Spielgruppe\n(8 Monate – 24 Monate)\nKEINE Anmeldung erforderlich
URL:https://www.lebensnah.de/event/fliesenflitzer-offene-spielgruppe-2025-02-17/
LOCATION:Familientreff RIGATONI\, Rigaer Str. 71 A\, Berlin\, 10247\, Deutschland
CATEGORIES:Familientreff RIGATONI
ORGANIZER;CN="Familientreff RIGATONI":MAILTO:rigatoni@lebensnah.de
END:VEVENT
BEGIN:VEVENT
DTSTART;TZID=UTC:20250217T130000
DTEND;TZID=UTC:20250217T140000
DTSTAMP:20260419T141527
CREATED:20231023T095001Z
LAST-MODIFIED:20231023T100700Z
UID:19096-1739797200-1739800800@www.lebensnah.de
SUMMARY:Beratung - kostenfrei
DESCRIPTION:Wir beraten kostenfrei zu folgenden Themen: \n„Rund ums Kind“ – Beratung zu Anträgen rund ums Kind (Bsp.: KITA-Gutschein)\nIst mein Kind „anders“? – Beratung für Kinder mit „Besonderheiten“\n„Was steht mir zu?“ – Beratung für Allein- und Getrennterziehende\nKITA- und Eingewöhnungsberatung
URL:https://www.lebensnah.de/event/beratung-kostenfrei-2025-02-17/
LOCATION:Familientreff RIGATONI\, Rigaer Str. 71 A\, Berlin\, 10247\, Deutschland
CATEGORIES:Familientreff RIGATONI
ORGANIZER;CN="Familientreff RIGATONI":MAILTO:rigatoni@lebensnah.de
END:VEVENT
BEGIN:VEVENT
DTSTART;TZID=UTC:20250217T170000
DTEND;TZID=UTC:20250217T174500
DTSTAMP:20260419T141527
CREATED:20231023T095415Z
LAST-MODIFIED:20231023T095415Z
UID:19202-1739811600-1739814300@www.lebensnah.de
SUMMARY:Kreativer Kindertanz
DESCRIPTION:(Kurs bereits voll!)\n3 Jahre – 5 Jahre\n16.00 – 16.45 Uhr\n17.00 – 17.45 Uhr\nWartelistenplatz unter:\nTel. 030 / 420 190 14\nrigatoni@lebensnah.de
URL:https://www.lebensnah.de/event/kreativer-kindertanz-2025-02-17/
LOCATION:Familientreff RIGATONI\, Rigaer Str. 71 A\, Berlin\, 10247\, Deutschland
CATEGORIES:Familientreff RIGATONI
ORGANIZER;CN="Familientreff RIGATONI":MAILTO:rigatoni@lebensnah.de
END:VEVENT
BEGIN:VEVENT
DTSTART;TZID=Europe/Berlin:20250221T100000
DTEND;TZID=Europe/Berlin:20250221T103000
DTSTAMP:20260419T141527
CREATED:20200124T125637Z
LAST-MODIFIED:20200124T125637Z
UID:17619-1740132000-1740133800@www.lebensnah.de
SUMMARY:Baby Musik
DESCRIPTION:Singen mit Eltern für Babys zwischen 6 und 18 Monaten \nZusammen singen wir Bewegungslieder und Kniereiter und machen Fingerspiele. \nKosten: 10 Termine / 40 Euro\nKursleiterin: Ruth Banke (Musik- und Spielpädagogin) \nAnmeldung erforderlich
URL:https://www.lebensnah.de/event/baby-musik-2-2025-02-21/
LOCATION:Familienzentrum Juli\, Gürtelstraße 20\, Berlin\, Deutschland
CATEGORIES:Familienzentrum Juli
END:VEVENT
BEGIN:VEVENT
DTSTART;TZID=Europe/Berlin:20250221T110000
DTEND;TZID=Europe/Berlin:20250221T113000
DTSTAMP:20260419T141527
CREATED:20200124T125637Z
LAST-MODIFIED:20200124T125637Z
UID:17620-1740135600-1740137400@www.lebensnah.de
SUMMARY:Baby Musik
DESCRIPTION:Singen mit Eltern für Babys zwischen 6 und 18 Monaten \nZusammen singen wir Bewegungslieder und Kniereiter und machen Fingerspiele. \nKosten: 10 Termine / 40 Euro\nKursleiterin: Ruth Banke (Musik- und Spielpädagogin) \nAnmeldung erforderlich
URL:https://www.lebensnah.de/event/baby-musik-2-2025-02-21-2/
LOCATION:Familienzentrum Juli\, Gürtelstraße 20\, Berlin\, Deutschland
CATEGORIES:Familienzentrum Juli
END:VEVENT
BEGIN:VEVENT
DTSTART;TZID=UTC:20250224T090000
DTEND;TZID=UTC:20250224T180000
DTSTAMP:20260419T141527
CREATED:20231023T094336Z
LAST-MODIFIED:20231023T094336Z
UID:18884-1740387600-1740420000@www.lebensnah.de
SUMMARY:Offenes Cafe
DESCRIPTION:Spielecke und Heißgetränke – ohne Anmeldung\, ihr könnt einfach vorbeikommen.
URL:https://www.lebensnah.de/event/offenes-cafe-2025-02-24/
LOCATION:Familientreff RIGATONI\, Rigaer Str. 71 A\, Berlin\, 10247\, Deutschland
CATEGORIES:Familientreff RIGATONI
ORGANIZER;CN="Familientreff RIGATONI":MAILTO:rigatoni@lebensnah.de
END:VEVENT
BEGIN:VEVENT
DTSTART;TZID=UTC:20250224T100000
DTEND;TZID=UTC:20250224T120000
DTSTAMP:20260419T141527
CREATED:20231023T094617Z
LAST-MODIFIED:20231023T094617Z
UID:18991-1740391200-1740398400@www.lebensnah.de
SUMMARY:Fliesenflitzer - offene Spielgruppe
DESCRIPTION:Offene Spielgruppe\n(8 Monate – 24 Monate)\nKEINE Anmeldung erforderlich
URL:https://www.lebensnah.de/event/fliesenflitzer-offene-spielgruppe-2025-02-24/
LOCATION:Familientreff RIGATONI\, Rigaer Str. 71 A\, Berlin\, 10247\, Deutschland
CATEGORIES:Familientreff RIGATONI
ORGANIZER;CN="Familientreff RIGATONI":MAILTO:rigatoni@lebensnah.de
END:VEVENT
BEGIN:VEVENT
DTSTART;TZID=UTC:20250224T130000
DTEND;TZID=UTC:20250224T140000
DTSTAMP:20260419T141527
CREATED:20231023T095001Z
LAST-MODIFIED:20231023T100701Z
UID:19097-1740402000-1740405600@www.lebensnah.de
SUMMARY:Beratung - kostenfrei
DESCRIPTION:Wir beraten kostenfrei zu folgenden Themen: \n„Rund ums Kind“ – Beratung zu Anträgen rund ums Kind (Bsp.: KITA-Gutschein)\nIst mein Kind „anders“? – Beratung für Kinder mit „Besonderheiten“\n„Was steht mir zu?“ – Beratung für Allein- und Getrennterziehende\nKITA- und Eingewöhnungsberatung
URL:https://www.lebensnah.de/event/beratung-kostenfrei-2025-02-24/
LOCATION:Familientreff RIGATONI\, Rigaer Str. 71 A\, Berlin\, 10247\, Deutschland
CATEGORIES:Familientreff RIGATONI
ORGANIZER;CN="Familientreff RIGATONI":MAILTO:rigatoni@lebensnah.de
END:VEVENT
BEGIN:VEVENT
DTSTART;TZID=UTC:20250224T170000
DTEND;TZID=UTC:20250224T174500
DTSTAMP:20260419T141527
CREATED:20231023T095415Z
LAST-MODIFIED:20231023T095415Z
UID:19203-1740416400-1740419100@www.lebensnah.de
SUMMARY:Kreativer Kindertanz
DESCRIPTION:(Kurs bereits voll!)\n3 Jahre – 5 Jahre\n16.00 – 16.45 Uhr\n17.00 – 17.45 Uhr\nWartelistenplatz unter:\nTel. 030 / 420 190 14\nrigatoni@lebensnah.de
URL:https://www.lebensnah.de/event/kreativer-kindertanz-2025-02-24/
LOCATION:Familientreff RIGATONI\, Rigaer Str. 71 A\, Berlin\, 10247\, Deutschland
CATEGORIES:Familientreff RIGATONI
ORGANIZER;CN="Familientreff RIGATONI":MAILTO:rigatoni@lebensnah.de
END:VEVENT
BEGIN:VEVENT
DTSTART;TZID=Europe/Berlin:20250228T100000
DTEND;TZID=Europe/Berlin:20250228T103000
DTSTAMP:20260419T141527
CREATED:20200124T125637Z
LAST-MODIFIED:20200124T125637Z
UID:17621-1740736800-1740738600@www.lebensnah.de
SUMMARY:Baby Musik
DESCRIPTION:Singen mit Eltern für Babys zwischen 6 und 18 Monaten \nZusammen singen wir Bewegungslieder und Kniereiter und machen Fingerspiele. \nKosten: 10 Termine / 40 Euro\nKursleiterin: Ruth Banke (Musik- und Spielpädagogin) \nAnmeldung erforderlich
URL:https://www.lebensnah.de/event/baby-musik-2-2025-02-28/
LOCATION:Familienzentrum Juli\, Gürtelstraße 20\, Berlin\, Deutschland
CATEGORIES:Familienzentrum Juli
END:VEVENT
BEGIN:VEVENT
DTSTART;TZID=Europe/Berlin:20250228T110000
DTEND;TZID=Europe/Berlin:20250228T113000
DTSTAMP:20260419T141527
CREATED:20200124T125637Z
LAST-MODIFIED:20200124T125637Z
UID:17622-1740740400-1740742200@www.lebensnah.de
SUMMARY:Baby Musik
DESCRIPTION:Singen mit Eltern für Babys zwischen 6 und 18 Monaten \nZusammen singen wir Bewegungslieder und Kniereiter und machen Fingerspiele. \nKosten: 10 Termine / 40 Euro\nKursleiterin: Ruth Banke (Musik- und Spielpädagogin) \nAnmeldung erforderlich
URL:https://www.lebensnah.de/event/baby-musik-2-2025-02-28-2/
LOCATION:Familienzentrum Juli\, Gürtelstraße 20\, Berlin\, Deutschland
CATEGORIES:Familienzentrum Juli
END:VEVENT
END:VCALENDAR