BEGIN:VCALENDAR
VERSION:2.0
PRODID:-//lebensnah e.V. - ECPv6.15.11//NONSGML v1.0//EN
CALSCALE:GREGORIAN
METHOD:PUBLISH
X-WR-CALNAME:lebensnah e.V.
X-ORIGINAL-URL:https://www.lebensnah.de
X-WR-CALDESC:Veranstaltungen für lebensnah e.V.
REFRESH-INTERVAL;VALUE=DURATION:PT1H
X-Robots-Tag:noindex
X-PUBLISHED-TTL:PT1H
BEGIN:VTIMEZONE
TZID:Europe/Berlin
BEGIN:DAYLIGHT
TZOFFSETFROM:+0100
TZOFFSETTO:+0200
TZNAME:CEST
DTSTART:20230326T010000
END:DAYLIGHT
BEGIN:STANDARD
TZOFFSETFROM:+0200
TZOFFSETTO:+0100
TZNAME:CET
DTSTART:20231029T010000
END:STANDARD
BEGIN:DAYLIGHT
TZOFFSETFROM:+0100
TZOFFSETTO:+0200
TZNAME:CEST
DTSTART:20240331T010000
END:DAYLIGHT
BEGIN:STANDARD
TZOFFSETFROM:+0200
TZOFFSETTO:+0100
TZNAME:CET
DTSTART:20241027T010000
END:STANDARD
BEGIN:DAYLIGHT
TZOFFSETFROM:+0100
TZOFFSETTO:+0200
TZNAME:CEST
DTSTART:20250330T010000
END:DAYLIGHT
BEGIN:STANDARD
TZOFFSETFROM:+0200
TZOFFSETTO:+0100
TZNAME:CET
DTSTART:20251026T010000
END:STANDARD
END:VTIMEZONE
BEGIN:VTIMEZONE
TZID:UTC
BEGIN:STANDARD
TZOFFSETFROM:+0000
TZOFFSETTO:+0000
TZNAME:UTC
DTSTART:20230101T000000
END:STANDARD
END:VTIMEZONE
BEGIN:VEVENT
DTSTART;TZID=Europe/Berlin:20241101T100000
DTEND;TZID=Europe/Berlin:20241101T103000
DTSTAMP:20260419T155300
CREATED:20200124T125637Z
LAST-MODIFIED:20200124T125637Z
UID:17587-1730455200-1730457000@www.lebensnah.de
SUMMARY:Baby Musik
DESCRIPTION:Singen mit Eltern für Babys zwischen 6 und 18 Monaten \nZusammen singen wir Bewegungslieder und Kniereiter und machen Fingerspiele. \nKosten: 10 Termine / 40 Euro\nKursleiterin: Ruth Banke (Musik- und Spielpädagogin) \nAnmeldung erforderlich
URL:https://www.lebensnah.de/event/baby-musik-2-2024-11-01/
LOCATION:Familienzentrum Juli\, Gürtelstraße 20\, Berlin\, Deutschland
CATEGORIES:Familienzentrum Juli
END:VEVENT
BEGIN:VEVENT
DTSTART;TZID=Europe/Berlin:20241101T110000
DTEND;TZID=Europe/Berlin:20241101T113000
DTSTAMP:20260419T155300
CREATED:20200124T125637Z
LAST-MODIFIED:20200124T125637Z
UID:17588-1730458800-1730460600@www.lebensnah.de
SUMMARY:Baby Musik
DESCRIPTION:Singen mit Eltern für Babys zwischen 6 und 18 Monaten \nZusammen singen wir Bewegungslieder und Kniereiter und machen Fingerspiele. \nKosten: 10 Termine / 40 Euro\nKursleiterin: Ruth Banke (Musik- und Spielpädagogin) \nAnmeldung erforderlich
URL:https://www.lebensnah.de/event/baby-musik-2-2024-11-01-2/
LOCATION:Familienzentrum Juli\, Gürtelstraße 20\, Berlin\, Deutschland
CATEGORIES:Familienzentrum Juli
END:VEVENT
BEGIN:VEVENT
DTSTART;TZID=UTC:20241104T090000
DTEND;TZID=UTC:20241104T180000
DTSTAMP:20260419T155300
CREATED:20231023T094336Z
LAST-MODIFIED:20231023T094336Z
UID:18868-1730710800-1730743200@www.lebensnah.de
SUMMARY:Offenes Cafe
DESCRIPTION:Spielecke und Heißgetränke – ohne Anmeldung\, ihr könnt einfach vorbeikommen.
URL:https://www.lebensnah.de/event/offenes-cafe-2024-11-04/
LOCATION:Familientreff RIGATONI\, Rigaer Str. 71 A\, Berlin\, 10247\, Deutschland
CATEGORIES:Familientreff RIGATONI
ORGANIZER;CN="Familientreff RIGATONI":MAILTO:rigatoni@lebensnah.de
END:VEVENT
BEGIN:VEVENT
DTSTART;TZID=UTC:20241104T100000
DTEND;TZID=UTC:20241104T120000
DTSTAMP:20260419T155300
CREATED:20231023T094617Z
LAST-MODIFIED:20231023T094617Z
UID:18975-1730714400-1730721600@www.lebensnah.de
SUMMARY:Fliesenflitzer - offene Spielgruppe
DESCRIPTION:Offene Spielgruppe\n(8 Monate – 24 Monate)\nKEINE Anmeldung erforderlich
URL:https://www.lebensnah.de/event/fliesenflitzer-offene-spielgruppe-2024-11-04/
LOCATION:Familientreff RIGATONI\, Rigaer Str. 71 A\, Berlin\, 10247\, Deutschland
CATEGORIES:Familientreff RIGATONI
ORGANIZER;CN="Familientreff RIGATONI":MAILTO:rigatoni@lebensnah.de
END:VEVENT
BEGIN:VEVENT
DTSTART;TZID=UTC:20241104T130000
DTEND;TZID=UTC:20241104T140000
DTSTAMP:20260419T155300
CREATED:20231023T095001Z
LAST-MODIFIED:20231023T100650Z
UID:19081-1730725200-1730728800@www.lebensnah.de
SUMMARY:Beratung - kostenfrei
DESCRIPTION:Wir beraten kostenfrei zu folgenden Themen: \n„Rund ums Kind“ – Beratung zu Anträgen rund ums Kind (Bsp.: KITA-Gutschein)\nIst mein Kind „anders“? – Beratung für Kinder mit „Besonderheiten“\n„Was steht mir zu?“ – Beratung für Allein- und Getrennterziehende\nKITA- und Eingewöhnungsberatung
URL:https://www.lebensnah.de/event/beratung-kostenfrei-2024-11-04/
LOCATION:Familientreff RIGATONI\, Rigaer Str. 71 A\, Berlin\, 10247\, Deutschland
CATEGORIES:Familientreff RIGATONI
ORGANIZER;CN="Familientreff RIGATONI":MAILTO:rigatoni@lebensnah.de
END:VEVENT
BEGIN:VEVENT
DTSTART;TZID=UTC:20241104T170000
DTEND;TZID=UTC:20241104T174500
DTSTAMP:20260419T155300
CREATED:20231023T095415Z
LAST-MODIFIED:20231023T095415Z
UID:19187-1730739600-1730742300@www.lebensnah.de
SUMMARY:Kreativer Kindertanz
DESCRIPTION:(Kurs bereits voll!)\n3 Jahre – 5 Jahre\n16.00 – 16.45 Uhr\n17.00 – 17.45 Uhr\nWartelistenplatz unter:\nTel. 030 / 420 190 14\nrigatoni@lebensnah.de
URL:https://www.lebensnah.de/event/kreativer-kindertanz-2024-11-04/
LOCATION:Familientreff RIGATONI\, Rigaer Str. 71 A\, Berlin\, 10247\, Deutschland
CATEGORIES:Familientreff RIGATONI
ORGANIZER;CN="Familientreff RIGATONI":MAILTO:rigatoni@lebensnah.de
END:VEVENT
BEGIN:VEVENT
DTSTART;TZID=Europe/Berlin:20241108T100000
DTEND;TZID=Europe/Berlin:20241108T103000
DTSTAMP:20260419T155300
CREATED:20200124T125637Z
LAST-MODIFIED:20200124T125637Z
UID:17589-1731060000-1731061800@www.lebensnah.de
SUMMARY:Baby Musik
DESCRIPTION:Singen mit Eltern für Babys zwischen 6 und 18 Monaten \nZusammen singen wir Bewegungslieder und Kniereiter und machen Fingerspiele. \nKosten: 10 Termine / 40 Euro\nKursleiterin: Ruth Banke (Musik- und Spielpädagogin) \nAnmeldung erforderlich
URL:https://www.lebensnah.de/event/baby-musik-2-2024-11-08/
LOCATION:Familienzentrum Juli\, Gürtelstraße 20\, Berlin\, Deutschland
CATEGORIES:Familienzentrum Juli
END:VEVENT
BEGIN:VEVENT
DTSTART;TZID=Europe/Berlin:20241108T110000
DTEND;TZID=Europe/Berlin:20241108T113000
DTSTAMP:20260419T155300
CREATED:20200124T125637Z
LAST-MODIFIED:20200124T125637Z
UID:17590-1731063600-1731065400@www.lebensnah.de
SUMMARY:Baby Musik
DESCRIPTION:Singen mit Eltern für Babys zwischen 6 und 18 Monaten \nZusammen singen wir Bewegungslieder und Kniereiter und machen Fingerspiele. \nKosten: 10 Termine / 40 Euro\nKursleiterin: Ruth Banke (Musik- und Spielpädagogin) \nAnmeldung erforderlich
URL:https://www.lebensnah.de/event/baby-musik-2-2024-11-08-2/
LOCATION:Familienzentrum Juli\, Gürtelstraße 20\, Berlin\, Deutschland
CATEGORIES:Familienzentrum Juli
END:VEVENT
BEGIN:VEVENT
DTSTART;TZID=UTC:20241111T090000
DTEND;TZID=UTC:20241111T180000
DTSTAMP:20260419T155300
CREATED:20231023T094336Z
LAST-MODIFIED:20231023T094336Z
UID:18869-1731315600-1731348000@www.lebensnah.de
SUMMARY:Offenes Cafe
DESCRIPTION:Spielecke und Heißgetränke – ohne Anmeldung\, ihr könnt einfach vorbeikommen.
URL:https://www.lebensnah.de/event/offenes-cafe-2024-11-11/
LOCATION:Familientreff RIGATONI\, Rigaer Str. 71 A\, Berlin\, 10247\, Deutschland
CATEGORIES:Familientreff RIGATONI
ORGANIZER;CN="Familientreff RIGATONI":MAILTO:rigatoni@lebensnah.de
END:VEVENT
BEGIN:VEVENT
DTSTART;TZID=UTC:20241111T100000
DTEND;TZID=UTC:20241111T120000
DTSTAMP:20260419T155300
CREATED:20231023T094617Z
LAST-MODIFIED:20231023T094617Z
UID:18976-1731319200-1731326400@www.lebensnah.de
SUMMARY:Fliesenflitzer - offene Spielgruppe
DESCRIPTION:Offene Spielgruppe\n(8 Monate – 24 Monate)\nKEINE Anmeldung erforderlich
URL:https://www.lebensnah.de/event/fliesenflitzer-offene-spielgruppe-2024-11-11/
LOCATION:Familientreff RIGATONI\, Rigaer Str. 71 A\, Berlin\, 10247\, Deutschland
CATEGORIES:Familientreff RIGATONI
ORGANIZER;CN="Familientreff RIGATONI":MAILTO:rigatoni@lebensnah.de
END:VEVENT
BEGIN:VEVENT
DTSTART;TZID=UTC:20241111T130000
DTEND;TZID=UTC:20241111T140000
DTSTAMP:20260419T155300
CREATED:20231023T095001Z
LAST-MODIFIED:20231023T100651Z
UID:19082-1731330000-1731333600@www.lebensnah.de
SUMMARY:Beratung - kostenfrei
DESCRIPTION:Wir beraten kostenfrei zu folgenden Themen: \n„Rund ums Kind“ – Beratung zu Anträgen rund ums Kind (Bsp.: KITA-Gutschein)\nIst mein Kind „anders“? – Beratung für Kinder mit „Besonderheiten“\n„Was steht mir zu?“ – Beratung für Allein- und Getrennterziehende\nKITA- und Eingewöhnungsberatung
URL:https://www.lebensnah.de/event/beratung-kostenfrei-2024-11-11/
LOCATION:Familientreff RIGATONI\, Rigaer Str. 71 A\, Berlin\, 10247\, Deutschland
CATEGORIES:Familientreff RIGATONI
ORGANIZER;CN="Familientreff RIGATONI":MAILTO:rigatoni@lebensnah.de
END:VEVENT
BEGIN:VEVENT
DTSTART;TZID=UTC:20241111T170000
DTEND;TZID=UTC:20241111T174500
DTSTAMP:20260419T155300
CREATED:20231023T095415Z
LAST-MODIFIED:20231023T095415Z
UID:19188-1731344400-1731347100@www.lebensnah.de
SUMMARY:Kreativer Kindertanz
DESCRIPTION:(Kurs bereits voll!)\n3 Jahre – 5 Jahre\n16.00 – 16.45 Uhr\n17.00 – 17.45 Uhr\nWartelistenplatz unter:\nTel. 030 / 420 190 14\nrigatoni@lebensnah.de
URL:https://www.lebensnah.de/event/kreativer-kindertanz-2024-11-11/
LOCATION:Familientreff RIGATONI\, Rigaer Str. 71 A\, Berlin\, 10247\, Deutschland
CATEGORIES:Familientreff RIGATONI
ORGANIZER;CN="Familientreff RIGATONI":MAILTO:rigatoni@lebensnah.de
END:VEVENT
BEGIN:VEVENT
DTSTART;TZID=Europe/Berlin:20241115T100000
DTEND;TZID=Europe/Berlin:20241115T103000
DTSTAMP:20260419T155300
CREATED:20200124T125637Z
LAST-MODIFIED:20200124T125637Z
UID:17591-1731664800-1731666600@www.lebensnah.de
SUMMARY:Baby Musik
DESCRIPTION:Singen mit Eltern für Babys zwischen 6 und 18 Monaten \nZusammen singen wir Bewegungslieder und Kniereiter und machen Fingerspiele. \nKosten: 10 Termine / 40 Euro\nKursleiterin: Ruth Banke (Musik- und Spielpädagogin) \nAnmeldung erforderlich
URL:https://www.lebensnah.de/event/baby-musik-2-2024-11-15/
LOCATION:Familienzentrum Juli\, Gürtelstraße 20\, Berlin\, Deutschland
CATEGORIES:Familienzentrum Juli
END:VEVENT
BEGIN:VEVENT
DTSTART;TZID=Europe/Berlin:20241115T110000
DTEND;TZID=Europe/Berlin:20241115T113000
DTSTAMP:20260419T155300
CREATED:20200124T125637Z
LAST-MODIFIED:20200124T125637Z
UID:17592-1731668400-1731670200@www.lebensnah.de
SUMMARY:Baby Musik
DESCRIPTION:Singen mit Eltern für Babys zwischen 6 und 18 Monaten \nZusammen singen wir Bewegungslieder und Kniereiter und machen Fingerspiele. \nKosten: 10 Termine / 40 Euro\nKursleiterin: Ruth Banke (Musik- und Spielpädagogin) \nAnmeldung erforderlich
URL:https://www.lebensnah.de/event/baby-musik-2-2024-11-15-2/
LOCATION:Familienzentrum Juli\, Gürtelstraße 20\, Berlin\, Deutschland
CATEGORIES:Familienzentrum Juli
END:VEVENT
BEGIN:VEVENT
DTSTART;TZID=UTC:20241118T090000
DTEND;TZID=UTC:20241118T180000
DTSTAMP:20260419T155300
CREATED:20231023T094336Z
LAST-MODIFIED:20231023T094336Z
UID:18870-1731920400-1731952800@www.lebensnah.de
SUMMARY:Offenes Cafe
DESCRIPTION:Spielecke und Heißgetränke – ohne Anmeldung\, ihr könnt einfach vorbeikommen.
URL:https://www.lebensnah.de/event/offenes-cafe-2024-11-18/
LOCATION:Familientreff RIGATONI\, Rigaer Str. 71 A\, Berlin\, 10247\, Deutschland
CATEGORIES:Familientreff RIGATONI
ORGANIZER;CN="Familientreff RIGATONI":MAILTO:rigatoni@lebensnah.de
END:VEVENT
BEGIN:VEVENT
DTSTART;TZID=UTC:20241118T100000
DTEND;TZID=UTC:20241118T120000
DTSTAMP:20260419T155300
CREATED:20231023T094617Z
LAST-MODIFIED:20231023T094617Z
UID:18977-1731924000-1731931200@www.lebensnah.de
SUMMARY:Fliesenflitzer - offene Spielgruppe
DESCRIPTION:Offene Spielgruppe\n(8 Monate – 24 Monate)\nKEINE Anmeldung erforderlich
URL:https://www.lebensnah.de/event/fliesenflitzer-offene-spielgruppe-2024-11-18/
LOCATION:Familientreff RIGATONI\, Rigaer Str. 71 A\, Berlin\, 10247\, Deutschland
CATEGORIES:Familientreff RIGATONI
ORGANIZER;CN="Familientreff RIGATONI":MAILTO:rigatoni@lebensnah.de
END:VEVENT
BEGIN:VEVENT
DTSTART;TZID=UTC:20241118T130000
DTEND;TZID=UTC:20241118T140000
DTSTAMP:20260419T155300
CREATED:20231023T095001Z
LAST-MODIFIED:20231023T100651Z
UID:19083-1731934800-1731938400@www.lebensnah.de
SUMMARY:Beratung - kostenfrei
DESCRIPTION:Wir beraten kostenfrei zu folgenden Themen: \n„Rund ums Kind“ – Beratung zu Anträgen rund ums Kind (Bsp.: KITA-Gutschein)\nIst mein Kind „anders“? – Beratung für Kinder mit „Besonderheiten“\n„Was steht mir zu?“ – Beratung für Allein- und Getrennterziehende\nKITA- und Eingewöhnungsberatung
URL:https://www.lebensnah.de/event/beratung-kostenfrei-2024-11-18/
LOCATION:Familientreff RIGATONI\, Rigaer Str. 71 A\, Berlin\, 10247\, Deutschland
CATEGORIES:Familientreff RIGATONI
ORGANIZER;CN="Familientreff RIGATONI":MAILTO:rigatoni@lebensnah.de
END:VEVENT
BEGIN:VEVENT
DTSTART;TZID=UTC:20241118T170000
DTEND;TZID=UTC:20241118T174500
DTSTAMP:20260419T155300
CREATED:20231023T095415Z
LAST-MODIFIED:20231023T095415Z
UID:19189-1731949200-1731951900@www.lebensnah.de
SUMMARY:Kreativer Kindertanz
DESCRIPTION:(Kurs bereits voll!)\n3 Jahre – 5 Jahre\n16.00 – 16.45 Uhr\n17.00 – 17.45 Uhr\nWartelistenplatz unter:\nTel. 030 / 420 190 14\nrigatoni@lebensnah.de
URL:https://www.lebensnah.de/event/kreativer-kindertanz-2024-11-18/
LOCATION:Familientreff RIGATONI\, Rigaer Str. 71 A\, Berlin\, 10247\, Deutschland
CATEGORIES:Familientreff RIGATONI
ORGANIZER;CN="Familientreff RIGATONI":MAILTO:rigatoni@lebensnah.de
END:VEVENT
BEGIN:VEVENT
DTSTART;TZID=Europe/Berlin:20241122T100000
DTEND;TZID=Europe/Berlin:20241122T103000
DTSTAMP:20260419T155300
CREATED:20200124T125637Z
LAST-MODIFIED:20200124T125637Z
UID:17593-1732269600-1732271400@www.lebensnah.de
SUMMARY:Baby Musik
DESCRIPTION:Singen mit Eltern für Babys zwischen 6 und 18 Monaten \nZusammen singen wir Bewegungslieder und Kniereiter und machen Fingerspiele. \nKosten: 10 Termine / 40 Euro\nKursleiterin: Ruth Banke (Musik- und Spielpädagogin) \nAnmeldung erforderlich
URL:https://www.lebensnah.de/event/baby-musik-2-2024-11-22/
LOCATION:Familienzentrum Juli\, Gürtelstraße 20\, Berlin\, Deutschland
CATEGORIES:Familienzentrum Juli
END:VEVENT
BEGIN:VEVENT
DTSTART;TZID=Europe/Berlin:20241122T110000
DTEND;TZID=Europe/Berlin:20241122T113000
DTSTAMP:20260419T155300
CREATED:20200124T125637Z
LAST-MODIFIED:20200124T125637Z
UID:17594-1732273200-1732275000@www.lebensnah.de
SUMMARY:Baby Musik
DESCRIPTION:Singen mit Eltern für Babys zwischen 6 und 18 Monaten \nZusammen singen wir Bewegungslieder und Kniereiter und machen Fingerspiele. \nKosten: 10 Termine / 40 Euro\nKursleiterin: Ruth Banke (Musik- und Spielpädagogin) \nAnmeldung erforderlich
URL:https://www.lebensnah.de/event/baby-musik-2-2024-11-22-2/
LOCATION:Familienzentrum Juli\, Gürtelstraße 20\, Berlin\, Deutschland
CATEGORIES:Familienzentrum Juli
END:VEVENT
BEGIN:VEVENT
DTSTART;TZID=UTC:20241125T090000
DTEND;TZID=UTC:20241125T180000
DTSTAMP:20260419T155300
CREATED:20231023T094336Z
LAST-MODIFIED:20231023T094336Z
UID:18871-1732525200-1732557600@www.lebensnah.de
SUMMARY:Offenes Cafe
DESCRIPTION:Spielecke und Heißgetränke – ohne Anmeldung\, ihr könnt einfach vorbeikommen.
URL:https://www.lebensnah.de/event/offenes-cafe-2024-11-25/
LOCATION:Familientreff RIGATONI\, Rigaer Str. 71 A\, Berlin\, 10247\, Deutschland
CATEGORIES:Familientreff RIGATONI
ORGANIZER;CN="Familientreff RIGATONI":MAILTO:rigatoni@lebensnah.de
END:VEVENT
BEGIN:VEVENT
DTSTART;TZID=UTC:20241125T100000
DTEND;TZID=UTC:20241125T120000
DTSTAMP:20260419T155300
CREATED:20231023T094617Z
LAST-MODIFIED:20231023T094617Z
UID:18978-1732528800-1732536000@www.lebensnah.de
SUMMARY:Fliesenflitzer - offene Spielgruppe
DESCRIPTION:Offene Spielgruppe\n(8 Monate – 24 Monate)\nKEINE Anmeldung erforderlich
URL:https://www.lebensnah.de/event/fliesenflitzer-offene-spielgruppe-2024-11-25/
LOCATION:Familientreff RIGATONI\, Rigaer Str. 71 A\, Berlin\, 10247\, Deutschland
CATEGORIES:Familientreff RIGATONI
ORGANIZER;CN="Familientreff RIGATONI":MAILTO:rigatoni@lebensnah.de
END:VEVENT
BEGIN:VEVENT
DTSTART;TZID=UTC:20241125T130000
DTEND;TZID=UTC:20241125T140000
DTSTAMP:20260419T155300
CREATED:20231023T095001Z
LAST-MODIFIED:20231023T100652Z
UID:19084-1732539600-1732543200@www.lebensnah.de
SUMMARY:Beratung - kostenfrei
DESCRIPTION:Wir beraten kostenfrei zu folgenden Themen: \n„Rund ums Kind“ – Beratung zu Anträgen rund ums Kind (Bsp.: KITA-Gutschein)\nIst mein Kind „anders“? – Beratung für Kinder mit „Besonderheiten“\n„Was steht mir zu?“ – Beratung für Allein- und Getrennterziehende\nKITA- und Eingewöhnungsberatung
URL:https://www.lebensnah.de/event/beratung-kostenfrei-2024-11-25/
LOCATION:Familientreff RIGATONI\, Rigaer Str. 71 A\, Berlin\, 10247\, Deutschland
CATEGORIES:Familientreff RIGATONI
ORGANIZER;CN="Familientreff RIGATONI":MAILTO:rigatoni@lebensnah.de
END:VEVENT
BEGIN:VEVENT
DTSTART;TZID=UTC:20241125T170000
DTEND;TZID=UTC:20241125T174500
DTSTAMP:20260419T155300
CREATED:20231023T095415Z
LAST-MODIFIED:20231023T095415Z
UID:19190-1732554000-1732556700@www.lebensnah.de
SUMMARY:Kreativer Kindertanz
DESCRIPTION:(Kurs bereits voll!)\n3 Jahre – 5 Jahre\n16.00 – 16.45 Uhr\n17.00 – 17.45 Uhr\nWartelistenplatz unter:\nTel. 030 / 420 190 14\nrigatoni@lebensnah.de
URL:https://www.lebensnah.de/event/kreativer-kindertanz-2024-11-25/
LOCATION:Familientreff RIGATONI\, Rigaer Str. 71 A\, Berlin\, 10247\, Deutschland
CATEGORIES:Familientreff RIGATONI
ORGANIZER;CN="Familientreff RIGATONI":MAILTO:rigatoni@lebensnah.de
END:VEVENT
BEGIN:VEVENT
DTSTART;TZID=Europe/Berlin:20241129T100000
DTEND;TZID=Europe/Berlin:20241129T103000
DTSTAMP:20260419T155300
CREATED:20200124T125637Z
LAST-MODIFIED:20200124T125637Z
UID:17595-1732874400-1732876200@www.lebensnah.de
SUMMARY:Baby Musik
DESCRIPTION:Singen mit Eltern für Babys zwischen 6 und 18 Monaten \nZusammen singen wir Bewegungslieder und Kniereiter und machen Fingerspiele. \nKosten: 10 Termine / 40 Euro\nKursleiterin: Ruth Banke (Musik- und Spielpädagogin) \nAnmeldung erforderlich
URL:https://www.lebensnah.de/event/baby-musik-2-2024-11-29/
LOCATION:Familienzentrum Juli\, Gürtelstraße 20\, Berlin\, Deutschland
CATEGORIES:Familienzentrum Juli
END:VEVENT
BEGIN:VEVENT
DTSTART;TZID=Europe/Berlin:20241129T110000
DTEND;TZID=Europe/Berlin:20241129T113000
DTSTAMP:20260419T155300
CREATED:20200124T125637Z
LAST-MODIFIED:20200124T125637Z
UID:17596-1732878000-1732879800@www.lebensnah.de
SUMMARY:Baby Musik
DESCRIPTION:Singen mit Eltern für Babys zwischen 6 und 18 Monaten \nZusammen singen wir Bewegungslieder und Kniereiter und machen Fingerspiele. \nKosten: 10 Termine / 40 Euro\nKursleiterin: Ruth Banke (Musik- und Spielpädagogin) \nAnmeldung erforderlich
URL:https://www.lebensnah.de/event/baby-musik-2-2024-11-29-2/
LOCATION:Familienzentrum Juli\, Gürtelstraße 20\, Berlin\, Deutschland
CATEGORIES:Familienzentrum Juli
END:VEVENT
END:VCALENDAR